BEGIN:VCALENDAR
VERSION:2.0
PRODID:-//Sea Pro Boats - ECPv6.15.20//NONSGML v1.0//EN
CALSCALE:GREGORIAN
METHOD:PUBLISH
X-ORIGINAL-URL:https://seapromfg.com
X-WR-CALDESC:Events for Sea Pro Boats
REFRESH-INTERVAL;VALUE=DURATION:PT1H
X-Robots-Tag:noindex
X-PUBLISHED-TTL:PT1H
BEGIN:VTIMEZONE
TZID:America/New_York
BEGIN:DAYLIGHT
TZOFFSETFROM:-0500
TZOFFSETTO:-0400
TZNAME:EDT
DTSTART:20240310T070000
END:DAYLIGHT
BEGIN:STANDARD
TZOFFSETFROM:-0400
TZOFFSETTO:-0500
TZNAME:EST
DTSTART:20241103T060000
END:STANDARD
BEGIN:DAYLIGHT
TZOFFSETFROM:-0500
TZOFFSETTO:-0400
TZNAME:EDT
DTSTART:20250309T070000
END:DAYLIGHT
BEGIN:STANDARD
TZOFFSETFROM:-0400
TZOFFSETTO:-0500
TZNAME:EST
DTSTART:20251102T060000
END:STANDARD
BEGIN:DAYLIGHT
TZOFFSETFROM:-0500
TZOFFSETTO:-0400
TZNAME:EDT
DTSTART:20260308T070000
END:DAYLIGHT
BEGIN:STANDARD
TZOFFSETFROM:-0400
TZOFFSETTO:-0500
TZNAME:EST
DTSTART:20261101T060000
END:STANDARD
END:VTIMEZONE
BEGIN:VEVENT
DTSTART;VALUE=DATE:20250108
DTEND;VALUE=DATE:20250113
DTSTAMP:20260424T040238
CREATED:20240922T004731Z
LAST-MODIFIED:20240922T004731Z
UID:39226-1736294400-1736726399@seapromfg.com
SUMMARY:Baltimore Boat Show
DESCRIPTION:
URL:https://seapromfg.com/event/baltimore-boat-show/
LOCATION:Baltimore Convention Center\, 1 West Pratt Street MD\, Baltimore\, MD\, 21201
END:VEVENT
BEGIN:VEVENT
DTSTART;VALUE=DATE:20250108
DTEND;VALUE=DATE:20250113
DTSTAMP:20260424T040238
CREATED:20240922T004949Z
LAST-MODIFIED:20240922T004949Z
UID:39232-1736294400-1736726399@seapromfg.com
SUMMARY:New England Boat Show - Boston
DESCRIPTION:
URL:https://seapromfg.com/event/new-england-boat-show-boston/
LOCATION:Boston Convention & Exhibition Center\, 415 Summer St\, Boston\, MA\, 02210\, United States
END:VEVENT
BEGIN:VEVENT
DTSTART;VALUE=DATE:20250109
DTEND;VALUE=DATE:20250113
DTSTAMP:20260424T040238
CREATED:20240922T005203Z
LAST-MODIFIED:20240922T005203Z
UID:39236-1736380800-1736726399@seapromfg.com
SUMMARY:Charlotte County Boat Show
DESCRIPTION:
URL:https://seapromfg.com/event/charlotte-county-boat-show-2/
LOCATION:Charlotte County Fairgrounds\, 2333 El Jobean Rd\, Port Charlotte\, FL\, 33948\, United States
END:VEVENT
BEGIN:VEVENT
DTSTART;VALUE=DATE:20250109
DTEND;VALUE=DATE:20250113
DTSTAMP:20260424T040238
CREATED:20240922T005404Z
LAST-MODIFIED:20240922T005404Z
UID:39238-1736380800-1736726399@seapromfg.com
SUMMARY:Atlanta Boat Show
DESCRIPTION:
URL:https://seapromfg.com/event/atlanta-boat-show-2/
LOCATION:Atlantic City Convention Center\, 1 Convention Boulevard\, Atlantic City\, NJ\, 08401\, United States
END:VEVENT
BEGIN:VEVENT
DTSTART;VALUE=DATE:20250109
DTEND;VALUE=DATE:20250113
DTSTAMP:20260424T040238
CREATED:20240922T005517Z
LAST-MODIFIED:20240922T005517Z
UID:39240-1736380800-1736726399@seapromfg.com
SUMMARY:Ultimate Fishing Show - Detroit
DESCRIPTION:
URL:https://seapromfg.com/event/ultimate-fishing-show-detroit/
LOCATION:Suburban Showplace\, 46100 Grand River Ave\, Novi\, MI\, 48374\, United States
END:VEVENT
END:VCALENDAR