BEGIN:VCALENDAR
VERSION:2.0
PRODID:-//Sea Pro Boats - ECPv6.15.20//NONSGML v1.0//EN
CALSCALE:GREGORIAN
METHOD:PUBLISH
X-WR-CALNAME:Sea Pro Boats
X-ORIGINAL-URL:https://seapromfg.com
X-WR-CALDESC:Events for Sea Pro Boats
REFRESH-INTERVAL;VALUE=DURATION:PT1H
X-Robots-Tag:noindex
X-PUBLISHED-TTL:PT1H
BEGIN:VTIMEZONE
TZID:America/New_York
BEGIN:DAYLIGHT
TZOFFSETFROM:-0500
TZOFFSETTO:-0400
TZNAME:EDT
DTSTART:20250309T070000
END:DAYLIGHT
BEGIN:STANDARD
TZOFFSETFROM:-0400
TZOFFSETTO:-0500
TZNAME:EST
DTSTART:20251102T060000
END:STANDARD
BEGIN:DAYLIGHT
TZOFFSETFROM:-0500
TZOFFSETTO:-0400
TZNAME:EDT
DTSTART:20260308T070000
END:DAYLIGHT
BEGIN:STANDARD
TZOFFSETFROM:-0400
TZOFFSETTO:-0500
TZNAME:EST
DTSTART:20261101T060000
END:STANDARD
BEGIN:DAYLIGHT
TZOFFSETFROM:-0500
TZOFFSETTO:-0400
TZNAME:EDT
DTSTART:20270314T070000
END:DAYLIGHT
BEGIN:STANDARD
TZOFFSETFROM:-0400
TZOFFSETTO:-0500
TZNAME:EST
DTSTART:20271107T060000
END:STANDARD
END:VTIMEZONE
BEGIN:VEVENT
DTSTART;TZID=America/New_York:20260107T080000
DTEND;TZID=America/New_York:20260110T170000
DTSTAMP:20260423T073818
CREATED:20260106T211936Z
LAST-MODIFIED:20260106T212000Z
UID:58178-1767772800-1768064400@seapromfg.com
SUMMARY:New England Boat Show
DESCRIPTION:
URL:https://seapromfg.com/event/new-england-boat-show-2/
LOCATION:Boston Convention & Exhibition Center\, 415 Summer St\, Boston\, MA\, 02210\, United States
END:VEVENT
BEGIN:VEVENT
DTSTART;TZID=America/New_York:20260107T080000
DTEND;TZID=America/New_York:20260111T170000
DTSTAMP:20260423T073818
CREATED:20260106T212103Z
LAST-MODIFIED:20260106T212127Z
UID:58180-1767772800-1768150800@seapromfg.com
SUMMARY:Atlanta Boat Show
DESCRIPTION:
URL:https://seapromfg.com/event/atlanta-boat-show-3/
LOCATION:Georgia World Congress Center\, 285 Andrew Young International Blvd NW\, Atlanta\, GA\, 30303
END:VEVENT
BEGIN:VEVENT
DTSTART;TZID=America/New_York:20260108T080000
DTEND;TZID=America/New_York:20260111T170000
DTSTAMP:20260423T073818
CREATED:20260106T212356Z
LAST-MODIFIED:20260106T212356Z
UID:58182-1767859200-1768150800@seapromfg.com
SUMMARY:Ultimate Fishing Show - Detroit
DESCRIPTION:
URL:https://seapromfg.com/event/ultimate-fishing-show-detroit-2/
LOCATION:Suburban Collection Showplace\, 46100 Grand River\, Novi\, MI\, 48347\, United States
END:VEVENT
BEGIN:VEVENT
DTSTART;TZID=America/New_York:20260108T080000
DTEND;TZID=America/New_York:20260111T170000
DTSTAMP:20260423T073818
CREATED:20260106T213031Z
LAST-MODIFIED:20260106T213031Z
UID:58185-1767859200-1768150800@seapromfg.com
SUMMARY:Bass and Saltwater Fishing Expo – Raleigh\, NC
DESCRIPTION:
URL:https://seapromfg.com/event/bass-and-saltwater-fishing-expo-raleigh-nc/
LOCATION:North Carolina State Fair\, 4285 Trinity Rd\, Raleigh\, Raleigh\, NC\, 27607\, United States
ORGANIZER;CN="Performance East":MAILTO:sales@performanceeast.com
END:VEVENT
BEGIN:VEVENT
DTSTART;TZID=America/New_York:20260109T080000
DTEND;TZID=America/New_York:20260111T170000
DTSTAMP:20260423T073818
CREATED:20260106T211741Z
LAST-MODIFIED:20260106T211805Z
UID:58175-1767945600-1768150800@seapromfg.com
SUMMARY:Myrtle Beach - Grand Strand Boat and Sportsman Expo
DESCRIPTION:
URL:https://seapromfg.com/event/myrtle-beach-grand-strand-boat-sportsman-expo/
LOCATION:Myrtle Beach Convention Center\, 2101 N. Oak Street\, Myrtle Beach\, SC\, 29578\, United States
END:VEVENT
BEGIN:VEVENT
DTSTART;TZID=America/New_York:20260109T080000
DTEND;TZID=America/New_York:20260111T170000
DTSTAMP:20260423T073818
CREATED:20260106T213200Z
LAST-MODIFIED:20260106T214028Z
UID:58189-1767945600-1768150800@seapromfg.com
SUMMARY:Daytona Boat Show
DESCRIPTION:
URL:https://seapromfg.com/event/daytona-boat-show-5/
LOCATION:Daytona International Speedway\, 1801 W International Speedway Blvd\, Daytona Beach\, FL\, 32114\, United States
END:VEVENT
END:VCALENDAR