BEGIN:VCALENDAR
VERSION:2.0
PRODID:-//Sea Pro Boats - ECPv6.15.20//NONSGML v1.0//EN
CALSCALE:GREGORIAN
METHOD:PUBLISH
X-ORIGINAL-URL:https://seapromfg.com
X-WR-CALDESC:Events for Sea Pro Boats
REFRESH-INTERVAL;VALUE=DURATION:PT1H
X-Robots-Tag:noindex
X-PUBLISHED-TTL:PT1H
BEGIN:VTIMEZONE
TZID:America/New_York
BEGIN:DAYLIGHT
TZOFFSETFROM:-0500
TZOFFSETTO:-0400
TZNAME:EDT
DTSTART:20250309T070000
END:DAYLIGHT
BEGIN:STANDARD
TZOFFSETFROM:-0400
TZOFFSETTO:-0500
TZNAME:EST
DTSTART:20251102T060000
END:STANDARD
BEGIN:DAYLIGHT
TZOFFSETFROM:-0500
TZOFFSETTO:-0400
TZNAME:EDT
DTSTART:20260308T070000
END:DAYLIGHT
BEGIN:STANDARD
TZOFFSETFROM:-0400
TZOFFSETTO:-0500
TZNAME:EST
DTSTART:20261101T060000
END:STANDARD
BEGIN:DAYLIGHT
TZOFFSETFROM:-0500
TZOFFSETTO:-0400
TZNAME:EDT
DTSTART:20270314T070000
END:DAYLIGHT
BEGIN:STANDARD
TZOFFSETFROM:-0400
TZOFFSETTO:-0500
TZNAME:EST
DTSTART:20271107T060000
END:STANDARD
END:VTIMEZONE
BEGIN:VEVENT
DTSTART;TZID=America/New_York:20260205T080000
DTEND;TZID=America/New_York:20260208T170000
DTSTAMP:20260423T043542
CREATED:20260113T202721Z
LAST-MODIFIED:20260113T203658Z
UID:59052-1770278400-1770570000@seapromfg.com
SUMMARY:Dallas Boat Show
DESCRIPTION:
URL:https://seapromfg.com/event/dallas-boat-show-4/
LOCATION:Dallas Market Hall\, 2200 Stemmons Freeway\, Dallas\, TX\, 75207\, United States
END:VEVENT
BEGIN:VEVENT
DTSTART;TZID=America/New_York:20260205T080000
DTEND;TZID=America/New_York:20260208T170000
DTSTAMP:20260423T043542
CREATED:20260113T203015Z
LAST-MODIFIED:20260113T205037Z
UID:59054-1770278400-1770570000@seapromfg.com
SUMMARY:Chesapeake Bay Boat Show
DESCRIPTION:
URL:https://seapromfg.com/event/chesapeake-bay-boat-show/
LOCATION:Maryland State Fairgrounds\, 2200 York Rd\, Timonium\, MD\, 21093\, United States
END:VEVENT
BEGIN:VEVENT
DTSTART;TZID=America/New_York:20260205T080000
DTEND;TZID=America/New_York:20260208T170000
DTSTAMP:20260423T043542
CREATED:20260113T210014Z
LAST-MODIFIED:20260113T210232Z
UID:59059-1770278400-1770570000@seapromfg.com
SUMMARY:Mid Atlantic Boat Show – Charlotte\, NC
DESCRIPTION:
URL:https://seapromfg.com/event/mid-atlantic-boat-show-charlotte-nc-2/
LOCATION:Charlotte Convention Center\, 501 S College St\, Charlotte\, NC\, 29202\, United States
END:VEVENT
BEGIN:VEVENT
DTSTART;TZID=America/New_York:20260206T080000
DTEND;TZID=America/New_York:20260208T170000
DTSTAMP:20260423T043542
CREATED:20260113T203324Z
LAST-MODIFIED:20260113T203451Z
UID:59057-1770364800-1770570000@seapromfg.com
SUMMARY:Biloxi Boat Show
DESCRIPTION:
URL:https://seapromfg.com/event/biloxi-boat-show-4/
LOCATION:Mississippi Coast Coliseum\, 2350 Beach Blvd\, Biloxi\, MS\, 39531\, United States
END:VEVENT
BEGIN:VEVENT
DTSTART;TZID=America/New_York:20260206T080000
DTEND;TZID=America/New_York:20260208T170000
DTSTAMP:20260423T043542
CREATED:20260113T210907Z
LAST-MODIFIED:20260113T211623Z
UID:59066-1770364800-1770570000@seapromfg.com
SUMMARY:Grand Rapids Boat Show
DESCRIPTION:
URL:https://seapromfg.com/event/grand-rapids-boat-show-2/
LOCATION:DevOs Place\, 303 Monroe Ave NW\, Grand Rapids\, MI\, 49503\, United States
END:VEVENT
BEGIN:VEVENT
DTSTART;TZID=America/New_York:20260206T080000
DTEND;TZID=America/New_York:20260208T170000
DTSTAMP:20260423T043542
CREATED:20260113T220812Z
LAST-MODIFIED:20260113T220812Z
UID:59098-1770364800-1770570000@seapromfg.com
SUMMARY:Emerald Coast Boat Show - Panama City Beach
DESCRIPTION:
URL:https://seapromfg.com/event/emerald-coast-boat-show-panama-city-beach/
LOCATION:Aaron Bessant Park\, 500 W Park Dr\, Panama City Beach\, FL\, 32413\, United States
END:VEVENT
END:VCALENDAR