BEGIN:VCALENDAR
VERSION:2.0
PRODID:-//Sea Pro Boats - ECPv6.15.20//NONSGML v1.0//EN
CALSCALE:GREGORIAN
METHOD:PUBLISH
X-WR-CALNAME:Sea Pro Boats
X-ORIGINAL-URL:https://seapromfg.com
X-WR-CALDESC:Events for Sea Pro Boats
REFRESH-INTERVAL;VALUE=DURATION:PT1H
X-Robots-Tag:noindex
X-PUBLISHED-TTL:PT1H
BEGIN:VTIMEZONE
TZID:America/New_York
BEGIN:DAYLIGHT
TZOFFSETFROM:-0500
TZOFFSETTO:-0400
TZNAME:EDT
DTSTART:20250309T070000
END:DAYLIGHT
BEGIN:STANDARD
TZOFFSETFROM:-0400
TZOFFSETTO:-0500
TZNAME:EST
DTSTART:20251102T060000
END:STANDARD
BEGIN:DAYLIGHT
TZOFFSETFROM:-0500
TZOFFSETTO:-0400
TZNAME:EDT
DTSTART:20260308T070000
END:DAYLIGHT
BEGIN:STANDARD
TZOFFSETFROM:-0400
TZOFFSETTO:-0500
TZNAME:EST
DTSTART:20261101T060000
END:STANDARD
BEGIN:DAYLIGHT
TZOFFSETFROM:-0500
TZOFFSETTO:-0400
TZNAME:EDT
DTSTART:20270314T070000
END:DAYLIGHT
BEGIN:STANDARD
TZOFFSETFROM:-0400
TZOFFSETTO:-0500
TZNAME:EST
DTSTART:20271107T060000
END:STANDARD
END:VTIMEZONE
BEGIN:VEVENT
DTSTART;TZID=America/New_York:20260211T080000
DTEND;TZID=America/New_York:20260215T170000
DTSTAMP:20260421T070432
CREATED:20260113T210438Z
LAST-MODIFIED:20260113T210438Z
UID:59062-1770796800-1771174800@seapromfg.com
SUMMARY:Miami International Boat Show
DESCRIPTION:
URL:https://seapromfg.com/event/miami-international-boat-show-2/
LOCATION:Miami Beach Convention Center\, 1901 Convention Ctr Dr\, Miami Beach\, FL\, 33139\, United States
END:VEVENT
BEGIN:VEVENT
DTSTART;TZID=America/New_York:20260212T080000
DTEND;TZID=America/New_York:20260215T170000
DTSTAMP:20260421T070432
CREATED:20260113T210635Z
LAST-MODIFIED:20260113T210735Z
UID:59064-1770883200-1771174800@seapromfg.com
SUMMARY:Detroit Boat Show
DESCRIPTION:
URL:https://seapromfg.com/event/detroit-boat-show-3/
LOCATION:Suburban Collection Showplace\, 46100 Grand River\, Novi\, MI\, 48347\, United States
END:VEVENT
END:VCALENDAR