BEGIN:VCALENDAR
VERSION:2.0
PRODID:-//Sea Pro Boats - ECPv6.15.20//NONSGML v1.0//EN
CALSCALE:GREGORIAN
METHOD:PUBLISH
X-WR-CALNAME:Sea Pro Boats
X-ORIGINAL-URL:https://seapromfg.com
X-WR-CALDESC:Events for Sea Pro Boats
REFRESH-INTERVAL;VALUE=DURATION:PT1H
X-Robots-Tag:noindex
X-PUBLISHED-TTL:PT1H
BEGIN:VTIMEZONE
TZID:America/New_York
BEGIN:DAYLIGHT
TZOFFSETFROM:-0500
TZOFFSETTO:-0400
TZNAME:EDT
DTSTART:20250309T070000
END:DAYLIGHT
BEGIN:STANDARD
TZOFFSETFROM:-0400
TZOFFSETTO:-0500
TZNAME:EST
DTSTART:20251102T060000
END:STANDARD
BEGIN:DAYLIGHT
TZOFFSETFROM:-0500
TZOFFSETTO:-0400
TZNAME:EDT
DTSTART:20260308T070000
END:DAYLIGHT
BEGIN:STANDARD
TZOFFSETFROM:-0400
TZOFFSETTO:-0500
TZNAME:EST
DTSTART:20261101T060000
END:STANDARD
BEGIN:DAYLIGHT
TZOFFSETFROM:-0500
TZOFFSETTO:-0400
TZNAME:EDT
DTSTART:20270314T070000
END:DAYLIGHT
BEGIN:STANDARD
TZOFFSETFROM:-0400
TZOFFSETTO:-0500
TZNAME:EST
DTSTART:20271107T060000
END:STANDARD
END:VTIMEZONE
BEGIN:VEVENT
DTSTART;TZID=America/New_York:20260225T080000
DTEND;TZID=America/New_York:20260301T170000
DTSTAMP:20260421T044426
CREATED:20260113T214427Z
LAST-MODIFIED:20260113T215231Z
UID:59084-1772006400-1772384400@seapromfg.com
SUMMARY:Atlantic City Boat Show
DESCRIPTION:
URL:https://seapromfg.com/event/atlantic-city-boat-show-5/
LOCATION:Atlantic City Convention Center\, 1 Convention Boulevard\, Atlantic City\, NJ\, 08401\, United States
END:VEVENT
BEGIN:VEVENT
DTSTART;TZID=America/New_York:20260226T080000
DTEND;TZID=America/New_York:20260301T170000
DTSTAMP:20260421T044426
CREATED:20260113T215743Z
LAST-MODIFIED:20260113T215743Z
UID:59091-1772092800-1772384400@seapromfg.com
SUMMARY:The Portland Boat Show
DESCRIPTION:
URL:https://seapromfg.com/event/the-portland-boat-show-2/
LOCATION:Portland Sports Complex in Portland\, 512 Warren Ave\, Portland\, ME\, 04103
END:VEVENT
BEGIN:VEVENT
DTSTART;TZID=America/New_York:20260227T080000
DTEND;TZID=America/New_York:20260301T170000
DTSTAMP:20260421T044426
CREATED:20260113T215459Z
LAST-MODIFIED:20260113T215525Z
UID:59089-1772179200-1772384400@seapromfg.com
SUMMARY:Downtown Knoxville Boat Show
DESCRIPTION:
URL:https://seapromfg.com/event/downtown-knoxville-boat-show-2/
LOCATION:knoxville Convention Center\, 701 Henley St\, Knoxville\, TN\, 37902\, United States
ORGANIZER;CN="Mountain Cove":MAILTO:mountaincovewatercraft1590@gmail.com
END:VEVENT
BEGIN:VEVENT
DTSTART;TZID=America/New_York:20260227T080000
DTEND;TZID=America/New_York:20260301T170000
DTSTAMP:20260421T044426
CREATED:20260113T215905Z
LAST-MODIFIED:20260113T215905Z
UID:59094-1772179200-1772384400@seapromfg.com
SUMMARY:Houma Boat Show
DESCRIPTION:
URL:https://seapromfg.com/event/houma-boat-show/
LOCATION:Houma Terrebonne Civic Center\, 346 Civic Center Blvd.\, Houma\, LA\, 70360\, United States
END:VEVENT
BEGIN:VEVENT
DTSTART;TZID=America/New_York:20260227T080000
DTEND;TZID=America/New_York:20260301T170000
DTSTAMP:20260421T044426
CREATED:20260113T220031Z
LAST-MODIFIED:20260113T220031Z
UID:59096-1772179200-1772384400@seapromfg.com
SUMMARY:Mobile Boat Show
DESCRIPTION:
URL:https://seapromfg.com/event/mobile-boat-show-5/
LOCATION:Mobile Convention Center\, 1 South Water Street\, Mobile\, AL\, 36602\, United States
END:VEVENT
END:VCALENDAR