BEGIN:VCALENDAR
VERSION:2.0
PRODID:-//Sea Pro Boats - ECPv6.15.20//NONSGML v1.0//EN
CALSCALE:GREGORIAN
METHOD:PUBLISH
X-WR-CALNAME:Sea Pro Boats
X-ORIGINAL-URL:https://seapromfg.com
X-WR-CALDESC:Events for Sea Pro Boats
REFRESH-INTERVAL;VALUE=DURATION:PT1H
X-Robots-Tag:noindex
X-PUBLISHED-TTL:PT1H
BEGIN:VTIMEZONE
TZID:America/New_York
BEGIN:DAYLIGHT
TZOFFSETFROM:-0500
TZOFFSETTO:-0400
TZNAME:EDT
DTSTART:20250309T070000
END:DAYLIGHT
BEGIN:STANDARD
TZOFFSETFROM:-0400
TZOFFSETTO:-0500
TZNAME:EST
DTSTART:20251102T060000
END:STANDARD
BEGIN:DAYLIGHT
TZOFFSETFROM:-0500
TZOFFSETTO:-0400
TZNAME:EDT
DTSTART:20260308T070000
END:DAYLIGHT
BEGIN:STANDARD
TZOFFSETFROM:-0400
TZOFFSETTO:-0500
TZNAME:EST
DTSTART:20261101T060000
END:STANDARD
BEGIN:DAYLIGHT
TZOFFSETFROM:-0500
TZOFFSETTO:-0400
TZNAME:EDT
DTSTART:20270314T070000
END:DAYLIGHT
BEGIN:STANDARD
TZOFFSETFROM:-0400
TZOFFSETTO:-0500
TZNAME:EST
DTSTART:20271107T060000
END:STANDARD
END:VTIMEZONE
BEGIN:VEVENT
DTSTART;TZID=America/New_York:20260313T080000
DTEND;TZID=America/New_York:20260315T170000
DTSTAMP:20260421T050436
CREATED:20260114T203825Z
LAST-MODIFIED:20260114T203825Z
UID:59141-1773388800-1773594000@seapromfg.com
SUMMARY:Long Island Boat Show
DESCRIPTION:
URL:https://seapromfg.com/event/long-island-boat-show-4/
LOCATION:Nassau Coliseum\, 1255 Hempstead Tpke\, Uniondale\, NY\, 11553\, United States
END:VEVENT
BEGIN:VEVENT
DTSTART;TZID=America/New_York:20260313T080000
DTEND;TZID=America/New_York:20260315T170000
DTSTAMP:20260421T050436
CREATED:20260114T204030Z
LAST-MODIFIED:20260114T204030Z
UID:59143-1773388800-1773594000@seapromfg.com
SUMMARY:Savannah Boat Show
DESCRIPTION:
URL:https://seapromfg.com/event/savannah-boat-show-4/
LOCATION:Savannah Convention Center\, 1 International Drive\, Savannah\, GA\, 31421\, United States
END:VEVENT
BEGIN:VEVENT
DTSTART;TZID=America/New_York:20260313T080000
DTEND;TZID=America/New_York:20260315T170000
DTSTAMP:20260421T050436
CREATED:20260114T204322Z
LAST-MODIFIED:20260114T204322Z
UID:59145-1773388800-1773594000@seapromfg.com
SUMMARY:Marine Exchange & Boat Show - Merritt Island
DESCRIPTION:
URL:https://seapromfg.com/event/marine-exchange-boat-show-merritt-island/
LOCATION:Merritt Island Mall\, 777 Merritt Island Cswy\, Merritt Island\, FL\, 32952\, United States
END:VEVENT
END:VCALENDAR