BEGIN:VCALENDAR
VERSION:2.0
PRODID:-//Sea Pro Boats - ECPv6.15.20//NONSGML v1.0//EN
CALSCALE:GREGORIAN
METHOD:PUBLISH
X-WR-CALNAME:Sea Pro Boats
X-ORIGINAL-URL:https://seapromfg.com
X-WR-CALDESC:Events for Sea Pro Boats
REFRESH-INTERVAL;VALUE=DURATION:PT1H
X-Robots-Tag:noindex
X-PUBLISHED-TTL:PT1H
BEGIN:VTIMEZONE
TZID:America/New_York
BEGIN:DAYLIGHT
TZOFFSETFROM:-0500
TZOFFSETTO:-0400
TZNAME:EDT
DTSTART:20250309T070000
END:DAYLIGHT
BEGIN:STANDARD
TZOFFSETFROM:-0400
TZOFFSETTO:-0500
TZNAME:EST
DTSTART:20251102T060000
END:STANDARD
BEGIN:DAYLIGHT
TZOFFSETFROM:-0500
TZOFFSETTO:-0400
TZNAME:EDT
DTSTART:20260308T070000
END:DAYLIGHT
BEGIN:STANDARD
TZOFFSETFROM:-0400
TZOFFSETTO:-0500
TZNAME:EST
DTSTART:20261101T060000
END:STANDARD
BEGIN:DAYLIGHT
TZOFFSETFROM:-0500
TZOFFSETTO:-0400
TZNAME:EDT
DTSTART:20270314T070000
END:DAYLIGHT
BEGIN:STANDARD
TZOFFSETFROM:-0400
TZOFFSETTO:-0500
TZNAME:EST
DTSTART:20271107T060000
END:STANDARD
END:VTIMEZONE
BEGIN:VEVENT
DTSTART;TZID=America/New_York:20260325T080000
DTEND;TZID=America/New_York:20260329T170000
DTSTAMP:20260421T044405
CREATED:20260114T205000Z
LAST-MODIFIED:20260114T205000Z
UID:59150-1774425600-1774803600@seapromfg.com
SUMMARY:Palm Beach International Boat Show
DESCRIPTION:
URL:https://seapromfg.com/event/palm-beach-international-boat-show-4/
LOCATION:Downtown West Palm Beach\, S Flagler Dr\, West Palm Beach\, FL\, 33405\, United States
END:VEVENT
BEGIN:VEVENT
DTSTART;TZID=America/New_York:20260327T080000
DTEND;TZID=America/New_York:20260329T170000
DTSTAMP:20260421T044405
CREATED:20260114T205529Z
LAST-MODIFIED:20260114T224809Z
UID:59157-1774598400-1774803600@seapromfg.com
SUMMARY:New Orleans Boat Show
DESCRIPTION:
URL:https://seapromfg.com/event/new-orleans-boat-show-3/
LOCATION:Caesar’s Superdome New Orleans\, LA
END:VEVENT
BEGIN:VEVENT
DTSTART;TZID=America/New_York:20260327T080000
DTEND;TZID=America/New_York:20260329T170000
DTSTAMP:20260421T044405
CREATED:20260326T205234Z
LAST-MODIFIED:20260326T205234Z
UID:61545-1774598400-1774803600@seapromfg.com
SUMMARY:Orlando Boat Show
DESCRIPTION:
URL:https://seapromfg.com/event/orlando-boat-show-4/
LOCATION:455 S Lake Destiny Dr\, Orlando\, FL 32810\, 455 S Lake Destiny Dr\, Orlando\, FL\, 32810\, United States
ORGANIZER;CN="Sky Marine":MAILTO:scottr@skymarineorlando.com
END:VEVENT
BEGIN:VEVENT
DTSTART;TZID=America/New_York:20260328T080000
DTEND;TZID=America/New_York:20260329T170000
DTSTAMP:20260421T044405
CREATED:20260326T205018Z
LAST-MODIFIED:20260326T205018Z
UID:61542-1774684800-1774803600@seapromfg.com
SUMMARY:Boating 716 Show and Sale
DESCRIPTION:
URL:https://seapromfg.com/event/boating-716-show-and-sale/
LOCATION:The Fairgrounds\, 5820 South Park Ave\, Hamburg\, NY\, United States
END:VEVENT
END:VCALENDAR