BEGIN:VCALENDAR
VERSION:2.0
PRODID:-//Sea Pro Boats - ECPv6.15.20//NONSGML v1.0//EN
CALSCALE:GREGORIAN
METHOD:PUBLISH
X-ORIGINAL-URL:https://seapromfg.com
X-WR-CALDESC:Events for Sea Pro Boats
REFRESH-INTERVAL;VALUE=DURATION:PT1H
X-Robots-Tag:noindex
X-PUBLISHED-TTL:PT1H
BEGIN:VTIMEZONE
TZID:America/New_York
BEGIN:DAYLIGHT
TZOFFSETFROM:-0500
TZOFFSETTO:-0400
TZNAME:EDT
DTSTART:20230312T070000
END:DAYLIGHT
BEGIN:STANDARD
TZOFFSETFROM:-0400
TZOFFSETTO:-0500
TZNAME:EST
DTSTART:20231105T060000
END:STANDARD
BEGIN:DAYLIGHT
TZOFFSETFROM:-0500
TZOFFSETTO:-0400
TZNAME:EDT
DTSTART:20240310T070000
END:DAYLIGHT
BEGIN:STANDARD
TZOFFSETFROM:-0400
TZOFFSETTO:-0500
TZNAME:EST
DTSTART:20241103T060000
END:STANDARD
BEGIN:DAYLIGHT
TZOFFSETFROM:-0500
TZOFFSETTO:-0400
TZNAME:EDT
DTSTART:20250309T070000
END:DAYLIGHT
BEGIN:STANDARD
TZOFFSETFROM:-0400
TZOFFSETTO:-0500
TZNAME:EST
DTSTART:20251102T060000
END:STANDARD
END:VTIMEZONE
BEGIN:VEVENT
DTSTART;VALUE=DATE:20240503
DTEND;VALUE=DATE:20240504
DTSTAMP:20260424T145903
CREATED:20240411T203821Z
LAST-MODIFIED:20240411T203821Z
UID:30228-1714694400-1714780799@seapromfg.com
SUMMARY:Caribbean International Boat Show
DESCRIPTION:
URL:https://seapromfg.com/event/caribbean-international-boat-show-2/
LOCATION:Safe Harbor\, 155-159 Avenida Manuel Fernández Juncos \, PR\,\, San Juan\, Puerto Rico\, 00901\, United States Minor Outlying Islands
END:VEVENT
BEGIN:VEVENT
DTSTART;VALUE=DATE:20240503
DTEND;VALUE=DATE:20240506
DTSTAMP:20260424T145903
CREATED:20240417T165630Z
LAST-MODIFIED:20240417T165630Z
UID:30452-1714694400-1714953599@seapromfg.com
SUMMARY:DC Boat Show at National Harbor
DESCRIPTION:
URL:https://seapromfg.com/event/dc-boat-show-at-national-harbor/
LOCATION:National Harbor\, 165 Waterfront Street National Harbor\, Oxon Hill\, MD\, 20745\, United States
END:VEVENT
BEGIN:VEVENT
DTSTART;VALUE=DATE:20240503
DTEND;VALUE=DATE:20240506
DTSTAMP:20260424T145903
CREATED:20240425T212739Z
LAST-MODIFIED:20240425T212739Z
UID:30976-1714694400-1714953599@seapromfg.com
SUMMARY:Land + Sea Show - Sea Trial Event Shorts Marine DE
DESCRIPTION:
URL:https://seapromfg.com/event/land-sea-show-sea-trial-event-shorts-marine-de/
LOCATION:Paradise Grill\, 27344 Bay Rd\, Millsboro\, DE\, 19966
END:VEVENT
BEGIN:VEVENT
DTSTART;TZID=America/New_York:20240504T090000
DTEND;TZID=America/New_York:20240504T150000
DTSTAMP:20260424T145903
CREATED:20240411T203629Z
LAST-MODIFIED:20240411T203629Z
UID:30225-1714813200-1714834800@seapromfg.com
SUMMARY:Atlantic Boats Open House Sales Event
DESCRIPTION:
URL:https://seapromfg.com/event/atlantic-boats-open-house-sales-event/
LOCATION:Atlantic Boats\, 2820 Cranberry Highway\, MA\, Wareham\, MA\, 02571\, United States
END:VEVENT
BEGIN:VEVENT
DTSTART;VALUE=DATE:20240518
DTEND;VALUE=DATE:20240520
DTSTAMP:20260424T145903
CREATED:20231005T014000Z
LAST-MODIFIED:20231005T014000Z
UID:19278-1715990400-1716163199@seapromfg.com
SUMMARY:Great Lakes Boating Festival
DESCRIPTION:
URL:https://seapromfg.com/event/great-lakes-boating-festival/
LOCATION:The Grosse Pointe Yacht Club\, 788 Lakeshore Road\, Grosse Pointe Shores\, MI\, 48236
END:VEVENT
BEGIN:VEVENT
DTSTART;TZID=America/New_York:20240518T100000
DTEND;TZID=America/New_York:20240518T150000
DTSTAMP:20260424T145903
CREATED:20240430T205936Z
LAST-MODIFIED:20240430T205936Z
UID:31308-1716026400-1716044400@seapromfg.com
SUMMARY:West Coast Marine Demo Day
DESCRIPTION:
URL:https://seapromfg.com/event/west-coast-marine-demo-day/
LOCATION:West Coast Marine\, 5213 w. Tyson Ave\, Tampa\, FL\, 33611\, United States
END:VEVENT
BEGIN:VEVENT
DTSTART;VALUE=DATE:20240519
DTEND;VALUE=DATE:20240522
DTSTAMP:20260424T145903
CREATED:20231219T020328Z
LAST-MODIFIED:20240123T193305Z
UID:22880-1716076800-1716335999@seapromfg.com
SUMMARY:SoFlo Boat Show
DESCRIPTION:
URL:https://seapromfg.com/event/soflo-boat-show/
LOCATION:Miami Marine Stadium\, 3501 Rickenbacker Causeway\, Miami\, FL\, 33149\, United States
END:VEVENT
END:VCALENDAR