BEGIN:VCALENDAR
VERSION:2.0
PRODID:-//Sea Pro Boats - ECPv6.15.20//NONSGML v1.0//EN
CALSCALE:GREGORIAN
METHOD:PUBLISH
X-ORIGINAL-URL:https://seapromfg.com
X-WR-CALDESC:Events for Sea Pro Boats
REFRESH-INTERVAL;VALUE=DURATION:PT1H
X-Robots-Tag:noindex
X-PUBLISHED-TTL:PT1H
BEGIN:VTIMEZONE
TZID:America/New_York
BEGIN:DAYLIGHT
TZOFFSETFROM:-0500
TZOFFSETTO:-0400
TZNAME:EDT
DTSTART:20230312T070000
END:DAYLIGHT
BEGIN:STANDARD
TZOFFSETFROM:-0400
TZOFFSETTO:-0500
TZNAME:EST
DTSTART:20231105T060000
END:STANDARD
BEGIN:DAYLIGHT
TZOFFSETFROM:-0500
TZOFFSETTO:-0400
TZNAME:EDT
DTSTART:20240310T070000
END:DAYLIGHT
BEGIN:STANDARD
TZOFFSETFROM:-0400
TZOFFSETTO:-0500
TZNAME:EST
DTSTART:20241103T060000
END:STANDARD
BEGIN:DAYLIGHT
TZOFFSETFROM:-0500
TZOFFSETTO:-0400
TZNAME:EDT
DTSTART:20250309T070000
END:DAYLIGHT
BEGIN:STANDARD
TZOFFSETFROM:-0400
TZOFFSETTO:-0500
TZNAME:EST
DTSTART:20251102T060000
END:STANDARD
END:VTIMEZONE
BEGIN:VEVENT
DTSTART;TZID=America/New_York:20240608T110000
DTEND;TZID=America/New_York:20240608T160000
DTSTAMP:20260424T131846
CREATED:20240604T165313Z
LAST-MODIFIED:20240604T165313Z
UID:33609-1717844400-1717862400@seapromfg.com
SUMMARY:Nautical Ventures Grand Opening Event Eastpoint\, FL Location
DESCRIPTION:
URL:https://seapromfg.com/event/nautical-ventures-grand-opening-event-eastpoint-fl-location/
LOCATION:Nautical Ventures Eastpoint\, FL\, 131 US-98\, Eastpoint\, FL\, 32328\, United States
END:VEVENT
BEGIN:VEVENT
DTSTART;VALUE=DATE:20240614
DTEND;VALUE=DATE:20240617
DTSTAMP:20260424T131846
CREATED:20240612T132251Z
LAST-MODIFIED:20240612T132251Z
UID:34244-1718323200-1718582399@seapromfg.com
SUMMARY:West Palm Beach Boat Show Summer Edition
DESCRIPTION:
URL:https://seapromfg.com/event/west-palm-beach-boat-show-summer-edition/
LOCATION:South Florida Fairgrounds Expo Center\, 9067 Southern Boulevard\, West Palm Beach\, FL\, 33411\, United States
END:VEVENT
BEGIN:VEVENT
DTSTART;VALUE=DATE:20240621
DTEND;VALUE=DATE:20240624
DTSTAMP:20260424T131846
CREATED:20240617T121827Z
LAST-MODIFIED:20240617T121827Z
UID:34503-1718928000-1719187199@seapromfg.com
SUMMARY:The Tampa Bay Boat Show
DESCRIPTION:
URL:https://seapromfg.com/event/the-tampa-bay-boat-show/
LOCATION:Florida State Fairgrounds\, 4800 U.S. 301\, Tampa\, FL\, 33610
END:VEVENT
BEGIN:VEVENT
DTSTART;TZID=America/New_York:20240622T110000
DTEND;TZID=America/New_York:20240622T150000
DTSTAMP:20260424T131846
CREATED:20240604T185642Z
LAST-MODIFIED:20240604T185642Z
UID:33623-1719054000-1719068400@seapromfg.com
SUMMARY:Blue Water Marina Open House
DESCRIPTION:
URL:https://seapromfg.com/event/blue-water-marina-open-house/
LOCATION:Blue Water Marina\, 340 East River Road\, Grand Island\, NY\, 14072\, United States
END:VEVENT
BEGIN:VEVENT
DTSTART;TZID=America/New_York:20240622T110000
DTEND;TZID=America/New_York:20240622T150000
DTSTAMP:20260424T131846
CREATED:20240617T121909Z
LAST-MODIFIED:20240617T121909Z
UID:34505-1719054000-1719068400@seapromfg.com
SUMMARY:Blue Water Marine Open House
DESCRIPTION:
URL:https://seapromfg.com/event/blue-water-marine-open-house/
LOCATION:Blue Water Marina\, 340 East River Road\, Grand Island\, NY\, 14072\, United States
END:VEVENT
BEGIN:VEVENT
DTSTART;TZID=America/New_York:20240622T120000
DTEND;TZID=America/New_York:20240622T210000
DTSTAMP:20260424T131846
CREATED:20240613T145155Z
LAST-MODIFIED:20240613T145155Z
UID:34412-1719057600-1719090000@seapromfg.com
SUMMARY:Daniel Island Boat Show
DESCRIPTION:
URL:https://seapromfg.com/event/daniel-island-boat-show/
LOCATION:New Realms Brewing\, 880 Island Park Dr\, Charleston\, SC\, 29492\, United States
END:VEVENT
BEGIN:VEVENT
DTSTART;VALUE=DATE:20240627
DTEND;VALUE=DATE:20240630
DTSTAMP:20260424T131846
CREATED:20240621T175636Z
LAST-MODIFIED:20240621T175636Z
UID:34991-1719446400-1719705599@seapromfg.com
SUMMARY:Atlantic Boats Open House and Summer Sale
DESCRIPTION:
URL:https://seapromfg.com/event/atlantic-boats-open-house-and-summer-sale/
LOCATION:Atlantic Boats\, 2820 Cranberry Highway\, MA\, Wareham\, MA\, 02571\, United States
END:VEVENT
BEGIN:VEVENT
DTSTART;VALUE=DATE:20240628
DTEND;VALUE=DATE:20240629
DTSTAMP:20260424T131846
CREATED:20240621T191042Z
LAST-MODIFIED:20240621T191042Z
UID:34998-1719532800-1719619199@seapromfg.com
SUMMARY:Fridays Marine Open House
DESCRIPTION:
URL:https://seapromfg.com/event/fridays-marine-open-house/
LOCATION:FL
END:VEVENT
END:VCALENDAR