BEGIN:VCALENDAR
VERSION:2.0
PRODID:-//Sea Pro Boats - ECPv6.15.20//NONSGML v1.0//EN
CALSCALE:GREGORIAN
METHOD:PUBLISH
X-WR-CALNAME:Sea Pro Boats
X-ORIGINAL-URL:https://seapromfg.com
X-WR-CALDESC:Events for Sea Pro Boats
REFRESH-INTERVAL;VALUE=DURATION:PT1H
X-Robots-Tag:noindex
X-PUBLISHED-TTL:PT1H
BEGIN:VTIMEZONE
TZID:America/New_York
BEGIN:DAYLIGHT
TZOFFSETFROM:-0500
TZOFFSETTO:-0400
TZNAME:EDT
DTSTART:20240310T070000
END:DAYLIGHT
BEGIN:STANDARD
TZOFFSETFROM:-0400
TZOFFSETTO:-0500
TZNAME:EST
DTSTART:20241103T060000
END:STANDARD
BEGIN:DAYLIGHT
TZOFFSETFROM:-0500
TZOFFSETTO:-0400
TZNAME:EDT
DTSTART:20250309T070000
END:DAYLIGHT
BEGIN:STANDARD
TZOFFSETFROM:-0400
TZOFFSETTO:-0500
TZNAME:EST
DTSTART:20251102T060000
END:STANDARD
BEGIN:DAYLIGHT
TZOFFSETFROM:-0500
TZOFFSETTO:-0400
TZNAME:EDT
DTSTART:20260308T070000
END:DAYLIGHT
BEGIN:STANDARD
TZOFFSETFROM:-0400
TZOFFSETTO:-0500
TZNAME:EST
DTSTART:20261101T060000
END:STANDARD
END:VTIMEZONE
BEGIN:VEVENT
DTSTART;VALUE=DATE:20250226
DTEND;VALUE=DATE:20250303
DTSTAMP:20260423T224640
CREATED:20240922T015229Z
LAST-MODIFIED:20240922T015229Z
UID:39315-1740528000-1740959999@seapromfg.com
SUMMARY:Atlantic City Boat Show
DESCRIPTION:
URL:https://seapromfg.com/event/atlantic-city-boat-show-4/
LOCATION:Atlantic City Convention Center\, 1 Convention Boulevard\, Atlantic City\, NJ\, 08401\, United States
END:VEVENT
BEGIN:VEVENT
DTSTART;TZID=America/New_York:20250227T080000
DTEND;TZID=America/New_York:20250302T170000
DTSTAMP:20260423T224640
CREATED:20250113T182741Z
LAST-MODIFIED:20250113T183419Z
UID:42585-1740643200-1740934800@seapromfg.com
SUMMARY:Downtown Knoxville Boat Show
DESCRIPTION:
URL:https://seapromfg.com/event/downtown-knoxville-boat-show/
LOCATION:knoxville Convention Center\, 701 Henley St\, Knoxville\, TN\, 37902\, United States
ORGANIZER;CN="Mountain Cove":MAILTO:mountaincovewatercraft1590@gmail.com
END:VEVENT
BEGIN:VEVENT
DTSTART;TZID=America/New_York:20250228T080000
DTEND;TZID=America/New_York:20250302T170000
DTSTAMP:20260423T224640
CREATED:20250113T182850Z
LAST-MODIFIED:20250113T183105Z
UID:42588-1740729600-1740934800@seapromfg.com
SUMMARY:The Portland Boat Show
DESCRIPTION:
URL:https://seapromfg.com/event/the-portland-boat-show/
LOCATION:512 Warren Avenue Portland\, ME 04103\, 512 Warren Avenue\, Portland\, ME\, 04103\, United States
END:VEVENT
BEGIN:VEVENT
DTSTART;TZID=America/New_York:20250306T080000
DTEND;TZID=America/New_York:20250309T170000
DTSTAMP:20260423T224640
CREATED:20250113T183758Z
LAST-MODIFIED:20250113T183758Z
UID:42598-1741248000-1741539600@seapromfg.com
SUMMARY:Dallas Boat Expo
DESCRIPTION:
URL:https://seapromfg.com/event/dallas-boat-expo/
LOCATION:Dallas Market Hall 2200 Stemmons Freeway Dallas\, Texas 75207\, 2200 Stemmons Freeway\, Dallas\, TX\, 75207\, United States
END:VEVENT
BEGIN:VEVENT
DTSTART;VALUE=DATE:20250307
DTEND;VALUE=DATE:20250310
DTSTAMP:20260423T224640
CREATED:20240922T015313Z
LAST-MODIFIED:20240922T015313Z
UID:39317-1741305600-1741564799@seapromfg.com
SUMMARY:Long Island Boat Show
DESCRIPTION:
URL:https://seapromfg.com/event/long-island-boat-show-2/
LOCATION:Nassau Coliseum\, 1255 Hempstead Tpke\, Uniondale\, NY\, 11553\, United States
END:VEVENT
BEGIN:VEVENT
DTSTART;VALUE=DATE:20250307
DTEND;VALUE=DATE:20250310
DTSTAMP:20260423T224640
CREATED:20240922T015403Z
LAST-MODIFIED:20240922T015403Z
UID:39319-1741305600-1741564799@seapromfg.com
SUMMARY:Savannah Boat Show
DESCRIPTION:
URL:https://seapromfg.com/event/savannah-boat-show-3/
LOCATION:Savannah Convention Center\, 1 International Drive\, Savannah\, GA\, 31421\, United States
END:VEVENT
BEGIN:VEVENT
DTSTART;VALUE=DATE:20250314
DTEND;VALUE=DATE:20250317
DTSTAMP:20260423T224640
CREATED:20240922T015518Z
LAST-MODIFIED:20240922T015518Z
UID:39321-1741910400-1742169599@seapromfg.com
SUMMARY:Mobile Boat Show
DESCRIPTION:
URL:https://seapromfg.com/event/mobile-boat-show-4/
LOCATION:Mobile Civic Center\, 401 Civic Center Dr\, Mobile\, AL\, 36602\, United States
END:VEVENT
BEGIN:VEVENT
DTSTART;VALUE=DATE:20250314
DTEND;VALUE=DATE:20250317
DTSTAMP:20260423T224640
CREATED:20240922T015726Z
LAST-MODIFIED:20240922T015726Z
UID:39324-1741910400-1742169599@seapromfg.com
SUMMARY:Philly Boat Show
DESCRIPTION:
URL:https://seapromfg.com/event/philly-boat-show/
LOCATION:The Greater Philadelphia Expo Center\, 100 Station Ave\, Oaks\, PA\, 19456\, United States
END:VEVENT
BEGIN:VEVENT
DTSTART;VALUE=DATE:20250320
DTEND;VALUE=DATE:20250324
DTSTAMP:20260423T224640
CREATED:20240922T015913Z
LAST-MODIFIED:20240922T015913Z
UID:39328-1742428800-1742774399@seapromfg.com
SUMMARY:Palm Beach International Boat Show
DESCRIPTION:
URL:https://seapromfg.com/event/palm-beach-international-boat-show-3/
LOCATION:Lake Pavilion – West Palm Beach\, 101 S Flagler Dr\, West Palm Beach\, FL\, 33401\, United States
END:VEVENT
BEGIN:VEVENT
DTSTART;VALUE=DATE:20250321
DTEND;VALUE=DATE:20250324
DTSTAMP:20260423T224640
CREATED:20240922T020103Z
LAST-MODIFIED:20240922T020103Z
UID:39330-1742515200-1742774399@seapromfg.com
SUMMARY:Acadiana Boat Show
DESCRIPTION:
URL:https://seapromfg.com/event/acadiana-boat-show-2/
LOCATION:Evangeline Downs Racetrack & Casino\, 2235 CRESWELL LANE EXTENSION\, OPELOUSAS\, LA\, 70570\, United States
END:VEVENT
BEGIN:VEVENT
DTSTART;VALUE=DATE:20250321
DTEND;VALUE=DATE:20250324
DTSTAMP:20260423T224640
CREATED:20240922T020159Z
LAST-MODIFIED:20240922T020159Z
UID:39332-1742515200-1742774399@seapromfg.com
SUMMARY:Georgia’s Premier In-Water Boat Show
DESCRIPTION:
URL:https://seapromfg.com/event/georgias-premier-in-water-boat-show-2/
LOCATION:Margaritaville at Lanier Islands\, 7650 Lanier Islands Pkwy\, Buford\, GA\, 30518\, United States
END:VEVENT
BEGIN:VEVENT
DTSTART;VALUE=DATE:20250321
DTEND;VALUE=DATE:20250324
DTSTAMP:20260423T224640
CREATED:20240922T020317Z
LAST-MODIFIED:20240922T020317Z
UID:39334-1742515200-1742774399@seapromfg.com
SUMMARY:The Wharf Boat and Yacht Show - Orange Beach\, Alabama
DESCRIPTION:
URL:https://seapromfg.com/event/the-wharf-boat-and-yacht-show-orange-beach-alabama/
LOCATION:The Warf\, 4851 Wharf Parkway\, Orange Beach\, AL\, 36561\, United States
END:VEVENT
BEGIN:VEVENT
DTSTART;TZID=America/New_York:20250327T080000
DTEND;TZID=America/New_York:20250330T170000
DTSTAMP:20260423T224640
CREATED:20250113T184151Z
LAST-MODIFIED:20250113T184254Z
UID:42602-1743062400-1743354000@seapromfg.com
SUMMARY:Buffalo Niagara Boat Show
DESCRIPTION:
URL:https://seapromfg.com/event/buffalo-niagara-boat-show/
LOCATION:Sahlen’s Sports Park\, 7070 Seneca St\, Elma\, NY\, 14059\, United States
END:VEVENT
BEGIN:VEVENT
DTSTART;VALUE=DATE:20250328
DTEND;VALUE=DATE:20250331
DTSTAMP:20260423T224640
CREATED:20240922T020400Z
LAST-MODIFIED:20240922T020400Z
UID:39336-1743120000-1743379199@seapromfg.com
SUMMARY:Louisiana Sportsman Show
DESCRIPTION:
URL:https://seapromfg.com/event/louisiana-sportsman-show-2/
LOCATION:Raising Cane’s River Center\, 275 S River Rd\, Baton Rouge\, LA\, 70802\, United States
END:VEVENT
END:VCALENDAR