BEGIN:VCALENDAR
VERSION:2.0
PRODID:-//Sea Pro Boats - ECPv6.15.20//NONSGML v1.0//EN
CALSCALE:GREGORIAN
METHOD:PUBLISH
X-ORIGINAL-URL:https://seapromfg.com
X-WR-CALDESC:Events for Sea Pro Boats
REFRESH-INTERVAL;VALUE=DURATION:PT1H
X-Robots-Tag:noindex
X-PUBLISHED-TTL:PT1H
BEGIN:VTIMEZONE
TZID:America/New_York
BEGIN:DAYLIGHT
TZOFFSETFROM:-0500
TZOFFSETTO:-0400
TZNAME:EDT
DTSTART:20240310T070000
END:DAYLIGHT
BEGIN:STANDARD
TZOFFSETFROM:-0400
TZOFFSETTO:-0500
TZNAME:EST
DTSTART:20241103T060000
END:STANDARD
BEGIN:DAYLIGHT
TZOFFSETFROM:-0500
TZOFFSETTO:-0400
TZNAME:EDT
DTSTART:20250309T070000
END:DAYLIGHT
BEGIN:STANDARD
TZOFFSETFROM:-0400
TZOFFSETTO:-0500
TZNAME:EST
DTSTART:20251102T060000
END:STANDARD
BEGIN:DAYLIGHT
TZOFFSETFROM:-0500
TZOFFSETTO:-0400
TZNAME:EDT
DTSTART:20260308T070000
END:DAYLIGHT
BEGIN:STANDARD
TZOFFSETFROM:-0400
TZOFFSETTO:-0500
TZNAME:EST
DTSTART:20261101T060000
END:STANDARD
END:VTIMEZONE
BEGIN:VEVENT
DTSTART;VALUE=DATE:20250502
DTEND;VALUE=DATE:20250505
DTSTAMP:20260423T191557
CREATED:20240922T020820Z
LAST-MODIFIED:20240922T020820Z
UID:39345-1746144000-1746403199@seapromfg.com
SUMMARY:Caribbean International Boat Show
DESCRIPTION:
URL:https://seapromfg.com/event/caribbean-international-boat-show-3/
LOCATION:Safe Harbor\, 155-159 Avenida Manuel Fernández Juncos \, PR\,\, San Juan\, Puerto Rico\, 00901\, United States Minor Outlying Islands
END:VEVENT
BEGIN:VEVENT
DTSTART;VALUE=DATE:20250502
DTEND;VALUE=DATE:20250505
DTSTAMP:20260423T191557
CREATED:20240922T020956Z
LAST-MODIFIED:20240922T020956Z
UID:39347-1746144000-1746403199@seapromfg.com
SUMMARY:DC Boat Show at National Harbor
DESCRIPTION:
URL:https://seapromfg.com/event/dc-boat-show-at-national-harbor-2/
LOCATION:National Harbor\, 165 Waterfront Street National Harbor\, Oxon Hill\, MD\, 20745\, United States
END:VEVENT
BEGIN:VEVENT
DTSTART;TZID=America/New_York:20250502T080000
DTEND;TZID=America/New_York:20250504T170000
DTSTAMP:20260423T191557
CREATED:20250414T181346Z
LAST-MODIFIED:20250414T181417Z
UID:46152-1746172800-1746378000@seapromfg.com
SUMMARY:Lulu's Paradise Boat Show
DESCRIPTION:
URL:https://seapromfg.com/event/lulus-paradise-boat-show/
LOCATION:Homeport Marina\, 200 East 25th Avenue\, Suite A\, Gulf Shores\, AL\, 36542\, United States
END:VEVENT
BEGIN:VEVENT
DTSTART;VALUE=DATE:20250516
DTEND;VALUE=DATE:20250519
DTSTAMP:20260423T191557
CREATED:20240922T021313Z
LAST-MODIFIED:20240922T021313Z
UID:39349-1747353600-1747612799@seapromfg.com
SUMMARY:SoFlo Boat Show
DESCRIPTION:
URL:https://seapromfg.com/event/soflo-boat-show-2/
LOCATION:Miami Marine Stadium\, 3501 Rickenbacker Causeway\, Miami\, FL\, 33149\, United States
END:VEVENT
BEGIN:VEVENT
DTSTART;VALUE=DATE:20250516
DTEND;VALUE=DATE:20250519
DTSTAMP:20260423T191557
CREATED:20240922T021358Z
LAST-MODIFIED:20240922T021358Z
UID:39351-1747353600-1747612799@seapromfg.com
SUMMARY:Great Lakes Boating Festival
DESCRIPTION:
URL:https://seapromfg.com/event/great-lakes-boating-festival-2/
LOCATION:FL
END:VEVENT
BEGIN:VEVENT
DTSTART;TZID=America/New_York:20250517T080000
DTEND;TZID=America/New_York:20250517T170000
DTSTAMP:20260423T191557
CREATED:20250414T165318Z
LAST-MODIFIED:20250414T181045Z
UID:46149-1747468800-1747501200@seapromfg.com
SUMMARY:Big Rock Powersports Spring Open House
DESCRIPTION:
URL:https://seapromfg.com/event/big-rock-powersports-spring-open-house/
LOCATION:Big Rock Powersports & Marine – New Burn\, 2551 US-70\, New Bern\, 28560\, United States
END:VEVENT
END:VCALENDAR